BEGIN:VCALENDAR
VERSION:2.0
PRODID:SchoolNow
CALSCALE:GREGORIAN
BEGIN:VEVENT
UID:37e0ca1a-ca2e-11ef-b120-0e4206814cd1
DTSTAMP:20251121T133519Z
SUMMARY:School Board Meeting
URL;VALUE=URI:https://www.sau24.org/schools/jfes-us/calendar/7264086/school
 -board-meeting
DTSTART:20260105T230000Z
DTEND:20260106T010000Z
END:VEVENT
END:VCALENDAR
