BEGIN:VCALENDAR
VERSION:2.0
PRODID:SchoolNow
CALSCALE:GREGORIAN
BEGIN:VEVENT
UID:37e0c93e-ca2e-11ef-b53b-0e4206814cd1
DTSTAMP:20251121T133519Z
SUMMARY:School Board Meeting
URL;VALUE=URI:https://www.sau24.org/schools/jfes-us/calendar/7264085/school
 -board-meeting
DTSTART:20251208T230000Z
DTEND:20251209T010000Z
END:VEVENT
END:VCALENDAR
