BEGIN:VCALENDAR
VERSION:2.0
PRODID:SchoolNow
CALSCALE:GREGORIAN
BEGIN:VEVENT
UID:37e0c6d2-ca2e-11ef-ad19-0e4206814cd1
DTSTAMP:20251121T133519Z
SUMMARY:School Board Meeting
URL;VALUE=URI:https://www.sau24.org/schools/jfes-us/calendar/7264083/school
 -board-meeting
DTSTART:20251006T220000Z
DTEND:20251007T000000Z
END:VEVENT
END:VCALENDAR
