BEGIN:VCALENDAR
VERSION:2.0
PRODID:SchoolNow
CALSCALE:GREGORIAN
BEGIN:VEVENT
UID:fa54c14e-c94f-11ef-8996-0a58a9feac02
DTSTAMP:20250102T212441Z
SUMMARY:Stoddard School Board Meeting
LOCATION:James Faulkner Elementary School (Portable Classroom)
URL;VALUE=URI:https://www.sau24.org/schools/jfes-us/calendar/7259496/stodda
 rd-school-board-meeting
DTSTART:20250609T220000Z
DTEND:20250610T000000Z
END:VEVENT
END:VCALENDAR
