BEGIN:VCALENDAR
VERSION:2.0
PRODID:SchoolNow
CALSCALE:GREGORIAN
BEGIN:VEVENT
UID:642f4b82-c94d-11ef-bd8f-0a58a9feac02
DTSTAMP:20250102T210610Z
SUMMARY:Stoddard School Board Retreat
LOCATION:James Faulkner Elementary School (Portable Classroom)
URL;VALUE=URI:https://www.sau24.org/schools/jfes-us/calendar/7259494/stodda
 rd-school-board-retreat
DTSTART:20250609T200000Z
DTEND:20250609T213000Z
END:VEVENT
END:VCALENDAR
