BEGIN:VCALENDAR
VERSION:2.0
PRODID:SchoolNow
CALSCALE:GREGORIAN
BEGIN:VEVENT
UID:c6080c50-c94c-11ef-a3a9-0e27c1cd314f
DTSTAMP:20250102T210144Z
SUMMARY:Stoddard School Board Meeting
LOCATION:James Faulkner Elementary School (Portable Classroom)
URL;VALUE=URI:https://www.sau24.org/schools/jfes-us/calendar/7259492/stodda
 rd-school-board-meeting
DTSTART:20250512T220000Z
DTEND:20250513T000000Z
END:VEVENT
END:VCALENDAR
