BEGIN:VCALENDAR
VERSION:2.0
PRODID:SchoolNow
CALSCALE:GREGORIAN
BEGIN:VEVENT
UID:3143395a-c94c-11ef-a448-0e27c1cd314f
DTSTAMP:20250102T205735Z
SUMMARY:Stoddard School Board Meeting
LOCATION:James Faulkner Elementary School (Portable Classroom)
URL;VALUE=URI:https://www.sau24.org/schools/jfes-us/calendar/7259490/stodda
 rd-school-board-meeting
DTSTART:20250414T220000Z
DTEND:20250415T000000Z
END:VEVENT
END:VCALENDAR
