BEGIN:VCALENDAR
VERSION:2.0
PRODID:SchoolNow
CALSCALE:GREGORIAN
BEGIN:VEVENT
UID:bcb2cd04-c940-11ef-a83d-0a58a9feac02
DTSTAMP:20250102T193535Z
SUMMARY:Stoddard School Board Meeting/Annual School District Meeting
LOCATION:James Faulkner Elementary School Multipurpose Room
URL;VALUE=URI:https://www.sau24.org/schools/jfes-us/calendar/7259483/stodda
 rd-school-board-meeting-annual-school-district-meeting
DTSTART:20250320T220000Z
DTEND:20250321T000000Z
END:VEVENT
END:VCALENDAR
