BEGIN:VCALENDAR
VERSION:2.0
PRODID:SchoolNow
CALSCALE:GREGORIAN
BEGIN:VEVENT
UID:abea4836-c93f-11ef-b36b-0a58a9feac02
DTSTAMP:20250211T142729Z
SUMMARY:Stoddard School Board Meeting/Public Hearing
LOCATION:James Faulkner Elementary School Multipurpose Room
URL;VALUE=URI:https://www.sau24.org/schools/jfes-us/calendar/7259479/stodda
 rd-school-board-meeting-public-hearing
DTSTART:20250213T230000Z
DTEND:20250214T010000Z
END:VEVENT
END:VCALENDAR
