BEGIN:VCALENDAR
VERSION:2.0
PRODID:SchoolNow
CALSCALE:GREGORIAN
BEGIN:VEVENT
UID:330ab6b0-c93c-11ef-843f-0ed8f5fabbf3
DTSTAMP:20250102T190306Z
SUMMARY:Stoddard School Board Budget Work Session
LOCATION:James Faulkner Elementary School (Portable Classroom)
URL;VALUE=URI:https://www.sau24.org/schools/jfes-us/calendar/7259477/stodda
 rd-school-board-budget-work-session
DTSTART:20250113T210000Z
DTEND:20250113T223000Z
END:VEVENT
END:VCALENDAR
