BEGIN:VCALENDAR
VERSION:2.0
PRODID:SchoolNow
CALSCALE:GREGORIAN
BEGIN:VEVENT
UID:30df1c3a-b70f-11ef-93df-0259a5502e1b
DTSTAMP:20251121T133519Z
SUMMARY:School Board Meeting
URL;VALUE=URI:https://www.sau24.org/schools/jfes-us/calendar/7150024/school
 -board-meeting
DTSTART:20260713T220000Z
DTEND:20260714T000000Z
END:VEVENT
END:VCALENDAR
