BEGIN:VCALENDAR
VERSION:2.0
PRODID:SchoolNow
CALSCALE:GREGORIAN
BEGIN:VEVENT
UID:157f2552-b0bb-11ef-8109-0affe4db5785
DTSTAMP:20241202T143823Z
SUMMARY:Stoddard School Board Meeting
LOCATION:James Faulkner Elementary School (Portable Classroom)
URL;VALUE=URI:https://www.sau24.org/schools/jfes-us/calendar/7110202/stodda
 rd-school-board-meeting
DTSTART:20241209T230000Z
DTEND:20241210T010000Z
END:VEVENT
END:VCALENDAR
