BEGIN:VCALENDAR
VERSION:2.0
PRODID:SchoolNow
CALSCALE:GREGORIAN
BEGIN:VEVENT
UID:f312016c-9867-11ef-9a57-0269c7ed4495
DTSTAMP:20241101T154249Z
SUMMARY:Stoddard School Board Meeting
LOCATION:James Faulkner Elementary School (Portable Classroom)
URL;VALUE=URI:https://www.sau24.org/schools/jfes-us/calendar/6940023/stodda
 rd-school-board-meeting
DTSTART:20241104T230000Z
DTEND:20241105T010000Z
END:VEVENT
END:VCALENDAR
