BEGIN:VCALENDAR
VERSION:2.0
PRODID:SchoolNow
CALSCALE:GREGORIAN
BEGIN:VEVENT
UID:80e3599e-864a-11ef-a541-0a58a9feac02
DTSTAMP:20241009T153411Z
SUMMARY:PTO Trunk or Treat
URL;VALUE=URI:https://www.sau24.org/schools/jfes-us/calendar/6790692/trunk-
 or-treat
DTSTART:20241025T223000Z
DTEND:20241026T000000Z
END:VEVENT
END:VCALENDAR
