BEGIN:VCALENDAR
VERSION:2.0
PRODID:SchoolNow
CALSCALE:GREGORIAN
BEGIN:VEVENT
UID:af2819ca-85dc-11ef-9226-0a58a9feac02
DTSTAMP:20251121T133519Z
SUMMARY:School Board Meeting
URL;VALUE=URI:https://www.sau24.org/schools/jfes-us/calendar/6785810/school
 -board-meeting
DTSTART:20260608T220000Z
DTEND:20260609T000000Z
END:VEVENT
END:VCALENDAR
