BEGIN:VCALENDAR
VERSION:2.0
PRODID:SchoolNow
CALSCALE:GREGORIAN
BEGIN:VEVENT
UID:de354db2-7ffd-11ef-84e7-0e59af3becc7
DTSTAMP:20241001T140418Z
SUMMARY:Stoddard School Board Meeting
LOCATION:James Faulkner Elementary School (Portable Classroom)
URL;VALUE=URI:https://www.sau24.org/schools/jfes-us/calendar/6732145/stodda
 rd-school-board
DTSTART:20241007T220000Z
DTEND:20241008T000000Z
END:VEVENT
END:VCALENDAR
