BEGIN:VCALENDAR
VERSION:2.0
PRODID:SchoolNow
CALSCALE:GREGORIAN
BEGIN:VEVENT
UID:4f2ee468-71f0-11ef-85cc-0a58a9feac02
DTSTAMP:20251121T133519Z
SUMMARY:School Board Meeting
URL;VALUE=URI:https://www.sau24.org/schools/jfes-us/calendar/6595005/school
 -board-meeting
DTSTART:20260511T220000Z
DTEND:20260512T000000Z
END:VEVENT
END:VCALENDAR
