BEGIN:VCALENDAR
VERSION:2.0
PRODID:SchoolNow
CALSCALE:GREGORIAN
BEGIN:VEVENT
UID:de1b8168-6589-11ef-b3c9-0a58a9feac02
DTSTAMP:20240829T174053Z
SUMMARY:Stoddard School Board Public Hearing/Meeting
LOCATION:James Faulkner Elementary School (multipurpose room)
URL;VALUE=URI:https://www.sau24.org/schools/jfes-us/calendar/6475959/stodda
 rd-school-board
DTSTART:20240909T220000Z
DTEND:20240910T000000Z
END:VEVENT
END:VCALENDAR
