BEGIN:VCALENDAR
VERSION:2.0
PRODID:SchoolNow
CALSCALE:GREGORIAN
BEGIN:VEVENT
UID:1bd10bc2-5a3b-11ef-b8b0-0ed710af155d
DTSTAMP:20251121T133519Z
SUMMARY:School Board Meeting
URL;VALUE=URI:https://www.sau24.org/schools/jfes-us/calendar/6398982/school
 -board-meeting
DTSTART:20260413T220000Z
DTEND:20260414T000000Z
END:VEVENT
END:VCALENDAR
