BEGIN:VCALENDAR
VERSION:2.0
PRODID:SchoolNow
CALSCALE:GREGORIAN
BEGIN:VEVENT
UID:488ba7d0-8d93-11f0-97c5-0a58a9feac02
DTSTAMP:20251121T133520Z
SUMMARY:NO SCHOOL- Winter Break
URL;VALUE=URI:https://www.sau24.org/schools/hennikercommunityschool/calenda
 r/8599524/no-school-winter-break
DTSTART;VALUE=DATE:20260223
DTEND;VALUE=DATE:20260228
END:VEVENT
END:VCALENDAR
