BEGIN:VCALENDAR
VERSION:2.0
PRODID:SchoolNow
CALSCALE:GREGORIAN
BEGIN:VEVENT
UID:730113e6-efbe-11f0-a456-0affd157e299
DTSTAMP:20260112T135610Z
SUMMARY:Henniker School Board Meeting
LOCATION:HCS Library
URL;VALUE=URI:https://www.sau24.org/schools/centerwoods/calendar/8834897/he
 nniker-school-board-meeting
DTSTART:20260304T230000Z
DTEND:20260305T010000Z
END:VEVENT
END:VCALENDAR
