BEGIN:VCALENDAR
VERSION:2.0
PRODID:SchoolNow
CALSCALE:GREGORIAN
BEGIN:VEVENT
UID:f5754a34-e430-11f0-875e-02c003301ce9
DTSTAMP:20260320T203017Z
SUMMARY:Weare School Board Meeting
LOCATION:Weare Middle School PG Center (Room U066)
URL;VALUE=URI:https://www.sau24.org/schools/centerwoods/calendar/8827540/we
 are-school-board-meeting
DTSTART:20260324T220000Z
DTEND:20260325T000000Z
END:VEVENT
END:VCALENDAR
