BEGIN:VCALENDAR
VERSION:2.0
PRODID:SchoolNow
CALSCALE:GREGORIAN
BEGIN:VEVENT
UID:5eefd36e-e42a-11f0-ae7e-02c003301ce9
DTSTAMP:20251228T201828Z
SUMMARY:Weare School Board Meeting/Public Hearing - January 14\, 2026
LOCATION:WMS PG Center (Room U066)
URL;VALUE=URI:https://www.sau24.org/schools/centerwoods/calendar/8827525/we
 are-school-board-meeting-public-hearing-january-14-2026
DTSTART:20260114T230000Z
DTEND:20260115T010000Z
END:VEVENT
END:VCALENDAR
