BEGIN:VCALENDAR
VERSION:2.0
PRODID:SchoolNow
CALSCALE:GREGORIAN
BEGIN:VEVENT
UID:2a97d1d4-e42a-11f0-922f-0e0ed75c457f
DTSTAMP:20260203T142750Z
SUMMARY:Weare School Board Meeting/Deliberative Session
LOCATION:Weare Middle School Cafeteria
URL;VALUE=URI:https://www.sau24.org/schools/centerwoods/calendar/8827523/we
 are-school-board-meeting-deliberative-session
DTSTART:20260204T230000Z
DTEND:20260205T010000Z
END:VEVENT
END:VCALENDAR
