BEGIN:VCALENDAR
VERSION:2.0
PRODID:SchoolNow
CALSCALE:GREGORIAN
BEGIN:VEVENT
UID:e3a7e166-8f1e-11f0-81c7-02a3adcaeebb
DTSTAMP:20251121T133518Z
SUMMARY:Open House
URL;VALUE=URI:https://www.sau24.org/schools/centerwoods/calendar/8608931/op
 en-house
DTSTART:20250925T213000Z
DTEND:20250925T230000Z
END:VEVENT
END:VCALENDAR
