BEGIN:VCALENDAR
VERSION:2.0
PRODID:SchoolNow
CALSCALE:GREGORIAN
BEGIN:VEVENT
UID:4287b010-e800-11ef-bef0-0a58a9feac02
DTSTAMP:20250210T224208Z
SUMMARY:WEARE SCHOOL DISTRICT PUBLIC HEARING:  BUDGET CAP
LOCATION:Weare Middle School Cafeteria
URL;VALUE=URI:https://www.sau24.org/schools/centerwoods/calendar/7449688/we
 are-school-district-public-hearing-budget-cap
DTSTART:20250218T230000Z
DTEND:20250219T010000Z
END:VEVENT
END:VCALENDAR
