BEGIN:VCALENDAR
VERSION:2.0
PRODID:SchoolNow
CALSCALE:GREGORIAN
BEGIN:VEVENT
UID:9f30d21e-d523-11ef-a339-0224a23e5b09
DTSTAMP:20250117T223724Z
SUMMARY:SAU 24 Legislative Committee Hosts Legislators from Henniker and We
 are
LOCATION:John Stark Regional High School - Room 144
URL;VALUE=URI:https://www.sau24.org/schools/centerwoods/calendar/7331076/sa
 u-24-legislative-committee-hosts-legislators-from-henniker-and-weare
DTSTART:20250121T230000Z
DTEND:20250122T010000Z
END:VEVENT
END:VCALENDAR
