BEGIN:VCALENDAR
VERSION:2.0
PRODID:SchoolNow
CALSCALE:GREGORIAN
BEGIN:VEVENT
UID:70384f0c-c937-11ef-ba5f-02943149ac01
DTSTAMP:20250102T182901Z
SUMMARY:Weare School Board Meeting
LOCATION:Weare Middle School PG Center (Room U035)
URL;VALUE=URI:https://www.sau24.org/schools/centerwoods/calendar/7259471/we
 are-school-board-meeting
DTSTART:20250617T220000Z
DTEND:20250618T000000Z
END:VEVENT
END:VCALENDAR
