BEGIN:VCALENDAR
VERSION:2.0
PRODID:SchoolNow
CALSCALE:GREGORIAN
BEGIN:VEVENT
UID:5f653eec-c937-11ef-a93d-0a58a9feac02
DTSTAMP:20250102T182833Z
SUMMARY:Weare School Board Retreat
LOCATION:Weare Middle School Library
URL;VALUE=URI:https://www.sau24.org/schools/centerwoods/calendar/7259469/we
 are-school-board-retreat
DTSTART:20250617T190000Z
DTEND:20250617T210000Z
END:VEVENT
END:VCALENDAR
