BEGIN:VCALENDAR
VERSION:2.0
PRODID:SchoolNow
CALSCALE:GREGORIAN
BEGIN:VEVENT
UID:29f31956-c936-11ef-ad0d-0a58a9feac02
DTSTAMP:20250102T181954Z
SUMMARY:Weare School Board Meeting
LOCATION:Weare Middle School PG Center (Room U035)
URL;VALUE=URI:https://www.sau24.org/schools/centerwoods/calendar/7259465/we
 are-school-board-meeting
DTSTART:20250520T220000Z
DTEND:20250521T000000Z
END:VEVENT
END:VCALENDAR
