BEGIN:VCALENDAR
VERSION:2.0
PRODID:SchoolNow
CALSCALE:GREGORIAN
BEGIN:VEVENT
UID:0e3f6104-c933-11ef-b9f1-0a58a9feac02
DTSTAMP:20250102T175739Z
SUMMARY:Weare School Board Meeting
LOCATION:Weare Middle School PG Center (Room U035)
URL;VALUE=URI:https://www.sau24.org/schools/centerwoods/calendar/7258446/we
 are-school-board-meeting
DTSTART:20250415T220000Z
DTEND:20250416T000000Z
END:VEVENT
END:VCALENDAR
