BEGIN:VCALENDAR
VERSION:2.0
PRODID:SchoolNow
CALSCALE:GREGORIAN
BEGIN:VEVENT
UID:d1354632-c92f-11ef-9606-0afff0583425
DTSTAMP:20250106T172404Z
SUMMARY:Weare School Board Meeting/Deliberative Session
LOCATION:Weare Middle School Cafeteria
URL;VALUE=URI:https://www.sau24.org/schools/centerwoods/calendar/7258439/we
 are-school-board-meeting-deliberative-session
DTSTART:20250205T230000Z
DTEND:20250206T010000Z
END:VEVENT
END:VCALENDAR
