BEGIN:VCALENDAR
VERSION:2.0
PRODID:SchoolNow
CALSCALE:GREGORIAN
BEGIN:VEVENT
UID:f83cdcde-c927-11ef-a180-0a58a9feac02
DTSTAMP:20250102T163817Z
SUMMARY:Weare School Board Meeting/Public Hearing
LOCATION:Weare Middle School PG Center (Room U035)
URL;VALUE=URI:https://www.sau24.org/schools/centerwoods/calendar/7258335/we
 are-school-board-meeting-public-hearing
DTSTART:20250115T230000Z
DTEND:20250116T010000Z
END:VEVENT
END:VCALENDAR
