BEGIN:VCALENDAR
VERSION:2.0
PRODID:SchoolNow
CALSCALE:GREGORIAN
BEGIN:VEVENT
UID:80fe6d02-c7bc-11ef-bb99-02b7128a9073
DTSTAMP:20241231T211630Z
SUMMARY:SAU 24 Board Meeting
LOCATION:John Stark Regional High School (Room 144)
URL;VALUE=URI:https://www.sau24.org/schools/centerwoods/calendar/7250830/sa
 u-24-board-meeting
DTSTART:20250331T220000Z
DTEND:20250401T000000Z
END:VEVENT
END:VCALENDAR
