BEGIN:VCALENDAR
VERSION:2.0
PRODID:SchoolNow
CALSCALE:GREGORIAN
BEGIN:VEVENT
UID:280ed424-b0bb-11ef-b913-0a58a9feac02
DTSTAMP:20241202T143854Z
SUMMARY:Weare School Board Meeting
LOCATION:Weare Middle School PG Center (Room U035)
URL;VALUE=URI:https://www.sau24.org/schools/centerwoods/calendar/7110203/we
 are-school-board-meeting
DTSTART:20241217T230000Z
DTEND:20241218T010000Z
END:VEVENT
END:VCALENDAR
