BEGIN:VCALENDAR
VERSION:2.0
PRODID:SchoolNow
CALSCALE:GREGORIAN
BEGIN:VEVENT
UID:0def5d74-a2a2-11ef-b9c4-0e1d0d2efa05
DTSTAMP:20241114T160357Z
SUMMARY:Weare School Board Meeting
LOCATION:Weare Middle School (PG Center - Room U035)
URL;VALUE=URI:https://www.sau24.org/schools/centerwoods/calendar/7020390/we
 are-school-board-meeting
DTSTART:20241119T230000Z
DTEND:20241120T010000Z
END:VEVENT
END:VCALENDAR
