BEGIN:VCALENDAR
VERSION:2.0
PRODID:SchoolNow
CALSCALE:GREGORIAN
BEGIN:VEVENT
UID:c537e064-865f-11ef-9fae-0a58a9feac02
DTSTAMP:20241009T165856Z
SUMMARY:Weare School Board Meeting
LOCATION:Weare Middle School (PG Center)
URL;VALUE=URI:https://www.sau24.org/schools/centerwoods/calendar/6790721/we
 are-school-board-meeting
DTSTART:20241015T220000Z
DTEND:20241016T000000Z
END:VEVENT
END:VCALENDAR
