BEGIN:VCALENDAR
VERSION:2.0
PRODID:SchoolNow
CALSCALE:GREGORIAN
BEGIN:VEVENT
UID:26d99ff0-7b4e-11ef-8d9b-0affd5f58377
DTSTAMP:20240925T145627Z
SUMMARY:Open House Grades 1-3
URL;VALUE=URI:https://www.sau24.org/schools/centerwoods/calendar/6687425/op
 en-house-grades-1-3
DTSTART:20240926T213000Z
DTEND:20240926T230000Z
END:VEVENT
END:VCALENDAR
