BEGIN:VCALENDAR
VERSION:2.0
PRODID:SchoolNow
CALSCALE:GREGORIAN
BEGIN:VEVENT
UID:d0a5fd64-658a-11ef-9141-0a58a9feac02
DTSTAMP:20240829T174120Z
SUMMARY:Weare School Board Meeting
LOCATION:Weare Middle School
URL;VALUE=URI:https://www.sau24.org/schools/centerwoods/calendar/6475961/we
 are-school-board
DTSTART:20240917T220000Z
DTEND:20240918T000000Z
END:VEVENT
END:VCALENDAR
