BEGIN:VCALENDAR
VERSION:2.0
PRODID:SchoolNow
CALSCALE:GREGORIAN
BEGIN:VEVENT
UID:97823a5e-3f84-11f1-a0f5-0a58a9feac02
DTSTAMP:20260424T022348Z
SUMMARY:SAU 24 Board Meeting
LOCATION:JSRHS\, Room 144
URL;VALUE=URI:https://www.sau24.org/calendar/9014684/sau-24-board-meeting
DTSTART:20260507T220000Z
DTEND:20260508T000000Z
END:VEVENT
END:VCALENDAR
