BEGIN:VCALENDAR
VERSION:2.0
PRODID:SchoolNow
CALSCALE:GREGORIAN
BEGIN:VEVENT
UID:45faf6b8-3a5b-11f1-8a90-0a58a9feac02
DTSTAMP:20260417T145747Z
SUMMARY:SAU 24 Board Retreat (All Districts)
LOCATION:JSRHS Library
URL;VALUE=URI:https://www.sau24.org/calendar/9000459/sau-24-board-retreat-a
 ll-districts
DTSTART:20260615T200000Z
DTEND:20260615T230000Z
END:VEVENT
END:VCALENDAR
