BEGIN:VCALENDAR
VERSION:2.0
PRODID:SchoolNow
CALSCALE:GREGORIAN
BEGIN:VEVENT
UID:a8bd1844-2dea-11f1-828d-0affdecbe46f
DTSTAMP:20260403T161904Z
SUMMARY:John Stark School Board Meeting
LOCATION:JSRHS\, Room 144
URL;VALUE=URI:https://www.sau24.org/calendar/8963367/john-stark-school-boar
 d-meeting
DTSTART:20260408T220000Z
DTEND:20260409T000000Z
END:VEVENT
END:VCALENDAR
