BEGIN:VCALENDAR
VERSION:2.0
PRODID:SchoolNow
CALSCALE:GREGORIAN
BEGIN:VEVENT
UID:6ca81cf0-2dea-11f1-affe-0a58a9feac02
DTSTAMP:20260401T180004Z
SUMMARY:SAU 24 Board Meeting
LOCATION:JSRHS\, Room 144
URL;VALUE=URI:https://www.sau24.org/calendar/8963366/sau-24-board-meeting
DTSTART:20260406T220000Z
DTEND:20260407T000000Z
END:VEVENT
END:VCALENDAR
