BEGIN:VCALENDAR
VERSION:2.0
PRODID:SchoolNow
CALSCALE:GREGORIAN
BEGIN:VEVENT
UID:e98561fc-2de9-11f1-b1ae-0a58a9feac02
DTSTAMP:20260401T164329Z
SUMMARY:John Stark Wellness Committee Meeting
LOCATION:JSRHS\, Principal's Office
URL;VALUE=URI:https://www.sau24.org/calendar/8963363/john-stark-wellness-co
 mmittee-meeting
DTSTART:20260409T190000Z
DTEND:20260409T200000Z
END:VEVENT
END:VCALENDAR
