BEGIN:VCALENDAR
VERSION:2.0
PRODID:SchoolNow
CALSCALE:GREGORIAN
BEGIN:VEVENT
UID:c2067350-29de-11f1-a55b-0255c09f7ddb
DTSTAMP:20260330T154737Z
SUMMARY:Henniker Board Meeting (Non-public session)
LOCATION:HCS conference room (Non-public)
URL;VALUE=URI:https://www.sau24.org/calendar/8949824/henniker-board-meeting
 -non-public-session
DTSTART:20260401T210000Z
DTEND:20260401T213000Z
END:VEVENT
END:VCALENDAR
