BEGIN:VCALENDAR
VERSION:2.0
PRODID:SchoolNow
CALSCALE:GREGORIAN
BEGIN:VEVENT
UID:a95dec2e-1cc4-11f1-b112-0a58a9feac02
DTSTAMP:20260330T154850Z
SUMMARY:Henniker School Board Meeting
LOCATION:Henniker Community School Library
URL;VALUE=URI:https://www.sau24.org/calendar/8908104/henniker-school-board-
 meeting
DTSTART:20260401T220000Z
DTEND:20260402T000000Z
END:VEVENT
END:VCALENDAR
