BEGIN:VCALENDAR
VERSION:2.0
PRODID:SchoolNow
CALSCALE:GREGORIAN
BEGIN:VEVENT
UID:c0d7b954-a2a2-11ef-8e2b-0a58a9feac02
DTSTAMP:20241114T160857Z
SUMMARY:Weare School Board Budget Work Session
LOCATION:Weare Middle School (PG Center - Room U035)
URL;VALUE=URI:https://www.sau24.org/calendar/7020392/weare-school-board-bud
 get-work-session
DTSTART:20241119T203000Z
DTEND:20241119T223000Z
END:VEVENT
END:VCALENDAR
