BEGIN:VCALENDAR
VERSION:2.0
PRODID:SchoolNow
CALSCALE:GREGORIAN
BEGIN:VEVENT
UID:1abb8fa8-9525-11ef-9b73-0a58a9feac02
DTSTAMP:20241114T161047Z
SUMMARY:John Stark School Board Budget Work Session
LOCATION:John Stark Regional High School (Room 144)
URL;VALUE=URI:https://www.sau24.org/calendar/6912905/john-stark-school-boar
 d-budget-work-session
DTSTART:20241125T200000Z
DTEND:20241125T223000Z
END:VEVENT
END:VCALENDAR
