BEGIN:VCALENDAR
VERSION:2.0
PRODID:SchoolNow
CALSCALE:GREGORIAN
BEGIN:VEVENT
UID:59774670-9524-11ef-89d4-0affd4efd7f1
DTSTAMP:20241103T181318Z
SUMMARY:Henniker School Board Budget Work Session
LOCATION:Henniker Community School (Library)
URL;VALUE=URI:https://www.sau24.org/calendar/6912903/henniker-school-board-
 budget-work-session
DTSTART:20241106T203000Z
DTEND:20241106T223000Z
END:VEVENT
END:VCALENDAR
