BEGIN:VCALENDAR
VERSION:2.0
PRODID:SchoolNow
CALSCALE:GREGORIAN
BEGIN:VEVENT
UID:addec186-663d-11ef-a336-0a58a9feac02
DTSTAMP:20241028T153519Z
SUMMARY:Henniker School Board Meeting/1st Budget Preview
LOCATION:Henniker Community School Library
URL;VALUE=URI:https://www.sau24.org/calendar/6484126/henniker-school-board-
 meeting
DTSTART:20241106T230000Z
DTEND:20241107T010000Z
END:VEVENT
END:VCALENDAR
